BEGIN:VCALENDAR
PRODID:-//github.com/rianjs/ical.net//NONSGML ical.net 4.0//EN
VERSION:2.0
BEGIN:VEVENT
DESCRIPTION:Join us for this forward-thinking forum exploring how artifici
 al intelligence is transforming work\, creativity\, leadership\, and deci
 sion-making.
DTEND:20250604T163000
DTSTAMP:20260423T150634Z
DTSTART:20250604T140000
LOCATION:Old Court (also known as the Creative Hub)\, Worcester Street\, K
 idderminster\, DY10 1EW
SEQUENCE:0
SUMMARY:AI & Innovation: Rethinking the Human Role
UID:18d47597-0bcd-436e-9086-6a497d595ddd
END:VEVENT
END:VCALENDAR
