BEGIN:VCALENDAR
PRODID:-//github.com/rianjs/ical.net//NONSGML ical.net 4.0//EN
VERSION:2.0
BEGIN:VEVENT
DESCRIPTION:Birmingham Tech Week is the UK’s largest regional tech festiva
 l and conference with over 7\,500 people attending.
DTEND:20241025T170000
DTSTAMP:20260425T163655Z
DTSTART:20241021T090000
LOCATION:Birmingham
SEQUENCE:0
SUMMARY:Birmingham Tech Week 2024
UID:3902b0ec-c74c-427a-b206-2740e57a2531
END:VEVENT
END:VCALENDAR
